BEGIN:VCALENDAR
VERSION:2.0
PRODID:-//GSV Eibensbach - ECPv6.15.11//NONSGML v1.0//EN
CALSCALE:GREGORIAN
METHOD:PUBLISH
X-WR-CALNAME:GSV Eibensbach
X-ORIGINAL-URL:https://www.gsv-eibensbach.de
X-WR-CALDESC:Veranstaltungen für GSV Eibensbach
REFRESH-INTERVAL;VALUE=DURATION:PT1H
X-Robots-Tag:noindex
X-PUBLISHED-TTL:PT1H
BEGIN:VTIMEZONE
TZID:Europe/Berlin
BEGIN:DAYLIGHT
TZOFFSETFROM:+0100
TZOFFSETTO:+0200
TZNAME:CEST
DTSTART:20250330T010000
END:DAYLIGHT
BEGIN:STANDARD
TZOFFSETFROM:+0200
TZOFFSETTO:+0100
TZNAME:CET
DTSTART:20251026T010000
END:STANDARD
BEGIN:DAYLIGHT
TZOFFSETFROM:+0100
TZOFFSETTO:+0200
TZNAME:CEST
DTSTART:20260329T010000
END:DAYLIGHT
BEGIN:STANDARD
TZOFFSETFROM:+0200
TZOFFSETTO:+0100
TZNAME:CET
DTSTART:20261025T010000
END:STANDARD
BEGIN:DAYLIGHT
TZOFFSETFROM:+0100
TZOFFSETTO:+0200
TZNAME:CEST
DTSTART:20270328T010000
END:DAYLIGHT
BEGIN:STANDARD
TZOFFSETFROM:+0200
TZOFFSETTO:+0100
TZNAME:CET
DTSTART:20271031T010000
END:STANDARD
END:VTIMEZONE
BEGIN:VEVENT
DTSTART;TZID=Europe/Berlin:20260106T090000
DTEND;TZID=Europe/Berlin:20260106T120000
DTSTAMP:20260421T090120
CREATED:20251017T121346Z
LAST-MODIFIED:20251017T121346Z
UID:2959-1767690000-1767700800@www.gsv-eibensbach.de
SUMMARY:Tannebaum sammeln am 06.01.2026
DESCRIPTION:Wir sammeln wieder eure Tannenbäume in Eibensbach und entsorgen diese fachmännisch gegen eine kleine Spende an den Verein! \nWann? Sa. 06.01.26 \nUhrzeit? Ab 9 Uhr \nWo? In Eibensbach \nWas gibt es zu beachten? \nKleine Spende am Baum anbringen\, gut sichtbar an der Straße platzieren
URL:https://www.gsv-eibensbach.de/event/tannebaum-sammeln-am-06-01-2026/
ATTACH;FMTTYPE=image/png:https://www.gsv-eibensbach.de/wp-content/uploads/2025/10/AufkleberTannenbaumsammeln.png
END:VEVENT
BEGIN:VEVENT
DTSTART;TZID=Europe/Berlin:20260106T120000
DTEND;TZID=Europe/Berlin:20260106T200000
DTSTAMP:20260421T090120
CREATED:20251228T113431Z
LAST-MODIFIED:20251228T114019Z
UID:2969-1767700800-1767729600@www.gsv-eibensbach.de
SUMMARY:Eibensbacher Glühweinfest am Sportgelände
DESCRIPTION:Am 06.01. ab 12 Uhr richtet unser Förderverein wieder das beliebte Glühweinfest auf unserem Sportgelände aus! Freut euch auf leckeren Glühwein\, selbstgemachte Waffeln\, schwäbische Dinetten und schmackhafte Grill- und Feuerwürste. In entspannter Atmosphäre kann man hier seine Wanderung starten oder nach der Wanderung wieder Kräfte tanken.
URL:https://www.gsv-eibensbach.de/event/eibensbacher-gluehweinfest-am-sportgelaende/
LOCATION:GSV-Sportgelände\, Flügelaustraße 29\, Eibensbach\, Baden-Württemberg\, 74363\, Deutschland
ATTACH;FMTTYPE=image/png:https://www.gsv-eibensbach.de/wp-content/uploads/2025/12/Gluehweinfest25.png
END:VEVENT
END:VCALENDAR